BEGIN:VCALENDAR
VERSION:2.0
PRODID:-//wp-events-plugin.com//7.0.5//EN
TZID:Europe/Berlin
X-WR-TIMEZONE:Europe/Berlin
BEGIN:VEVENT
UID:30279@cottbus.de
DTSTART;TZID=Europe/Berlin:20260429T170000
DTEND;TZID=Europe/Berlin:20260429T190000
DTSTAMP:20260420T084532Z
URL:https://cottbus.de/veranstaltungen/die-reichste-frau-der-welt-obenkino
 -cottbus-5/
SUMMARY:DIE REICHSTE FRAU DER WELT - Obenkino Cottbus
DESCRIPTION:FR\, BE 2025 | 121 Min | FSK: 12 | Buch &amp\; Regie: Thierry K
 lifa | DarstellerInnen: Isabelle Huppert\, Laurent Lafitte\, Marina Foïs\
 , Raphaël Personnaz\n\nDie reichste Frau der Welt: Voller Schönheit\, In
 telligenz und grenzenloser Macht. Sie begegnet einem Fotografen voll unver
 schämtem Ehrgeiz und angetrieben von einem Wahnsinn\, der auch Genie sein
  könnte. Es ist Liebe auf den ersten Blick. Mit kreativer Boshaftigkeit n
 istet er sich ein – in den altehrwürdigen Machtstrukturen dieser Famili
 e und ihrem grenzenlosen Luxus.\nDoch da ist auch noch eine Tochter\, die 
 um ihr Erbe\, die Familie und die Liebe ihrer Mutter kämpft. Und ein Butl
 er\, der mehr weiß als er sagt. Über Familiengeheimnisse und fragwürdig
 e Spenden in astronomischen Höhen. Es beginnt ein Krieg\, dem alle Mittel
  recht sind.\n\nEin berauschend komisches Drama\, das in seinen Abgründen
  an Shakespeare erinnert: Der Film mit einer brillanten Isabelle Huppert i
 n der Titelrolle ist eine so grandiose wie doppelbödige Satire über die 
 Macht des Geldes und den verführerischen Glauben an eine Familie\, die ih
 r widerstehen könnte.
ATTACH;FMTTYPE=image/jpeg:https://cottbus.de/wp-content/uploads/2024/12/73
 5e642a7c2e51e222de2d5fb7957c24d6c6e6df50e08d58639ce3e8553d9f86-scaled.jpg
CATEGORIES:Cottbus,Einzelveranstaltung,Film
LOCATION:Obenkino\, Straße der Jugend 16\, Cottbus\, 03046\, Brandenburg\,
  Deutschland
GEO:51.754318;14.333652
X-APPLE-STRUCTURED-LOCATION;VALUE=URI;X-ADDRESS=Straße der Jugend 16\, Cot
 tbus\, 03046\, Brandenburg\, Deutschland;X-APPLE-RADIUS=100;X-TITLE=Obenki
 no:geo:51.754318,14.333652
END:VEVENT
BEGIN:VTIMEZONE
TZID:Europe/Berlin
X-LIC-LOCATION:Europe/Berlin
BEGIN:DAYLIGHT
DTSTART:20260329T030000
TZOFFSETFROM:+0100
TZOFFSETTO:+0200
TZNAME:CEST
END:DAYLIGHT
END:VTIMEZONE
END:VCALENDAR