BEGIN:VCALENDAR
VERSION:2.0
PRODID:-//wp-events-plugin.com//7.0.5//EN
TZID:Europe/Berlin
X-WR-TIMEZONE:Europe/Berlin
BEGIN:VEVENT
UID:30542@cottbus.de
DTSTART;TZID=Europe/Berlin:20260426T140000
DTEND;TZID=Europe/Berlin:20260426T153000
DTSTAMP:20260422T090256Z
URL:https://cottbus.de/veranstaltungen/der-wunderweltenbaum-preview-im-wel
 tspiegel-cottbus/
SUMMARY:Der Wunderweltenbaum - Preview - im Weltspiegel Cottbus
DESCRIPTION:Als die Geschwister Beth (Delilah Bennett-Cardy)\, Fran (Billie
  Gadson) und Joe (Phoenix Laroche) wider ihren Willen mit ihren Eltern (An
 drew Garfield\, Claire Foy) aufs Land ziehen\, beginnt für die Familie ei
 n ganz besonderes Abenteuer. In dem nahegelegenen\, geheimnisvollen Wald e
 ntdecken die Kinder einen magischen Baum: den bis in die Wolken reichenden
  Wunderweltenbaum\, in dem außergewöhnliche Wesen wohnen. Schnell schlie
 ßen sie Freundschaft mit den Baumbewohnern Fee Seidenhaar (Nicola Coughla
 n)\, Frau Wasch (Jessica Gunning) und Mondgesicht (Nonso Anozie)\, die sie
  in fantastische Welten entführen. Gemeinsam erleben sie märchenhafte Ab
 enteuer – bis sie auf einer ihrer Reisen ausgerechnet in der düsteren W
 elt der gefürchteten Schuldirektorin Madame Klaps (Rebecca Ferguson) notl
 anden müssen. Auch zuhause läuft es mit dem neuen Familienbetrieb plötz
 lich nicht mehr ganz nach Plan... Wird ihnen die Flucht aus den Fängen vo
 n Madame Klaps gelingen und werden sie die Tomatenplantage ihrer Eltern re
 tten? Können Seidenhaar und Mondgesicht die Geschwister davon überzeugen
 \, dass Wunder möglich sind\, wenn man nur fest daran glaubt?\nDauer: 110
  min\, Sprache: D\, Deutsch\, FSK: FSK folgt
ATTACH;FMTTYPE=image/jpeg:https://cottbus.de/wp-content/uploads/2026/04/20
 230404_072808-scaled.jpg
CATEGORIES:Cottbus,Film,Kino
LOCATION:Weltspiegel Cottbus\, Rudolf-Breitscheid-Straße 78\, Cottbus\, Br
 andenburg\,  03046 \, Lausitz\, Deutschland
X-APPLE-STRUCTURED-LOCATION;VALUE=URI;X-ADDRESS=Rudolf-Breitscheid-Straße 
 78\, Cottbus\, Brandenburg\,  03046 \, Lausitz\, Deutschland;X-APPLE-RADIU
 S=100;X-TITLE=Weltspiegel Cottbus:geo:0,0
END:VEVENT
BEGIN:VTIMEZONE
TZID:Europe/Berlin
X-LIC-LOCATION:Europe/Berlin
BEGIN:DAYLIGHT
DTSTART:20260329T030000
TZOFFSETFROM:+0100
TZOFFSETTO:+0200
TZNAME:CEST
END:DAYLIGHT
END:VTIMEZONE
END:VCALENDAR