BEGIN:VCALENDAR
VERSION:2.0
PRODID:-//wp-events-plugin.com//7.0.5//EN
TZID:Europe/Berlin
X-WR-TIMEZONE:Europe/Berlin
BEGIN:VEVENT
UID:30524@cottbus.de
DTSTART;TZID=Europe/Berlin:20260422T194500
DTEND;TZID=Europe/Berlin:20260422T214500
DTSTAMP:20260422T085504Z
URL:https://cottbus.de/veranstaltungen/der-super-mario-galaxy-film-3d-im-w
 eltspiegel-cottbus/
SUMMARY:Der Super Mario Galaxy Film 3D - im Weltspiegel Cottbus
DESCRIPTION:DER SUPER MARIO GALAXY FILM ist der neue Animationsfilm\, basie
 rend auf der Welt von „Super Mario Bros.“ Das erste Mario-Abenteuer De
 r Super Mario Bros. Film startete 2023 in den Kinos\, spielte weltweit meh
 r als 1\,3 Milliarden Dollar ein und begeisterte in Deutschland mehr als 5
  Millionen Kinozuschauer.\nDauer: 99 min\, Sprache: D\, Deutsch\, FSK: ab 
 6
ATTACH;FMTTYPE=image/jpeg:https://cottbus.de/wp-content/uploads/2026/04/20
 230404_072808-scaled.jpg
CATEGORIES:Cottbus,Film,Kino
LOCATION:Weltspiegel Cottbus\, Rudolf-Breitscheid-Straße 78\, Cottbus\, Br
 andenburg\,  03046 \, Lausitz\, Deutschland
X-APPLE-STRUCTURED-LOCATION;VALUE=URI;X-ADDRESS=Rudolf-Breitscheid-Straße 
 78\, Cottbus\, Brandenburg\,  03046 \, Lausitz\, Deutschland;X-APPLE-RADIU
 S=100;X-TITLE=Weltspiegel Cottbus:geo:0,0
END:VEVENT
BEGIN:VTIMEZONE
TZID:Europe/Berlin
X-LIC-LOCATION:Europe/Berlin
BEGIN:DAYLIGHT
DTSTART:20260329T030000
TZOFFSETFROM:+0100
TZOFFSETTO:+0200
TZNAME:CEST
END:DAYLIGHT
END:VTIMEZONE
END:VCALENDAR