BEGIN:VCALENDAR
VERSION:2.0
PRODID:-//wp-events-plugin.com//7.0.5//EN
TZID:Europe/Berlin
X-WR-TIMEZONE:Europe/Berlin
BEGIN:VEVENT
UID:30281@cottbus.de
DTSTART;TZID=Europe/Berlin:20260430T170000
DTEND;TZID=Europe/Berlin:20260430T190000
DTSTAMP:20260420T084653Z
URL:https://cottbus.de/veranstaltungen/der-frosch-und-das-wasser-obenkino-
 cottbus/
SUMMARY:DER FROSCH UND DAS WASSER - Obenkino Cottbus
DESCRIPTION:DE\, CH 2025 | 113 Min | FSK: 6 | Regie: Thomas Stuber | Darste
 llerInnen: Aladdin Detlefsen\, Kanji Tsuda\, Bettina Stucky\, Meltem Kapta
 n\n\nFür Abenteuer ist in Stefan Buschs Alltag in einer betreuten Wohngem
 einschaft kein Platz. Doch während eines Gruppenausflugs nimmt sein Leben
  eine schicksalhafte Wendung: Ohne zu zögern schließt sich der junge Man
 n\, den alle nur Buschi nennen\, einer japanischen Reisegruppe an. Auf die
 sem ungewöhnlichen Roadtrip beginnt die behutsame Freundschaft zwischen B
 uschi und Hideo Kitamura. Buschi\, der sich sein ganzes Leben lang geweige
 rt hat\, über Sprache mit seinen Mitmenschen zu kommunizieren\, blüht in
  dieser fremden Umgebung auf.\n„Eine liebevolle Geschichte über den Mut
 \, den es braucht\, um Grenzen zu überschreiten“\nCINEUROPA
ATTACH;FMTTYPE=image/jpeg:https://cottbus.de/wp-content/uploads/2024/12/73
 5e642a7c2e51e222de2d5fb7957c24d6c6e6df50e08d58639ce3e8553d9f86-scaled.jpg
CATEGORIES:Cottbus,Einzelveranstaltung,Film
LOCATION:Obenkino\, Straße der Jugend 16\, Cottbus\, 03046\, Brandenburg\,
  Deutschland
GEO:51.754318;14.333652
X-APPLE-STRUCTURED-LOCATION;VALUE=URI;X-ADDRESS=Straße der Jugend 16\, Cot
 tbus\, 03046\, Brandenburg\, Deutschland;X-APPLE-RADIUS=100;X-TITLE=Obenki
 no:geo:51.754318,14.333652
END:VEVENT
BEGIN:VTIMEZONE
TZID:Europe/Berlin
X-LIC-LOCATION:Europe/Berlin
BEGIN:DAYLIGHT
DTSTART:20260329T030000
TZOFFSETFROM:+0100
TZOFFSETTO:+0200
TZNAME:CEST
END:DAYLIGHT
END:VTIMEZONE
END:VCALENDAR