BEGIN:VCALENDAR
VERSION:2.0
PRODID:-//wp-events-plugin.com//7.0.5//EN
TZID:Europe/Berlin
X-WR-TIMEZONE:Europe/Berlin
BEGIN:VEVENT
UID:30532@cottbus.de
DTSTART;TZID=Europe/Berlin:20260425T191500
DTEND;TZID=Europe/Berlin:20260425T214500
DTSTAMP:20260422T085921Z
URL:https://cottbus.de/veranstaltungen/der-astronaut-project-hail-mary-im-
 weltspiegel-cottbus-2/
SUMMARY:Der Astronaut - Project Hail Mary - im Weltspiegel Cottbus
DESCRIPTION:Der Naturwissenschaftslehrer Ryland Grace (RYAN GOSLING) wacht 
 eines Tages auf einem Raumschiff auf – Lichtjahre von zu Hause entfernt 
 und ohne Erinnerung daran\, wer er ist oder wie er dorthin gekommen ist. A
 ls sein Gedächtnis nach und nach zurückkehrt\, findet er heraus\, was se
 ine Mission ist: Er soll das Rätsel um eine mysteriöse Substanz lösen\,
  die dazu führt\, dass die Sonne erlischt. Um alles und jeden auf der Erd
 e vor dem Aussterben zu bewahren\, muss er auf sein wissenschaftliches Fac
 hwissen und einige unorthodoxe Ideen zurückgreifen. Dabei führt eine une
 rwartete Freundschaft dazu\, dass er all dies vielleicht nicht ganz allein
  tun muss… Die Hauptrollen in DER ASTRONAUT – PROJECT HAIL MARY spiele
 n Ryan Gosling\, Sandra Hüller\, Lionel Boyce\, Ken Leung und Milana Vayn
 trub. Regie führten Phil Lord &amp\; Christopher Miller. Amy Pascal\, p.g
 .a.\, Ryan Gosling\, Phil Lord\, p.g.a.\, Christopher Miller\, p.g.a.\, Ad
 itya Sood\, p.g.a.\, Rachel O’Connor\, p.g.a.\, und Andy Weir produziert
 en den Film nach einem Drehbuch von Drew Goddard\, basierend auf dem Roman
  von Andy Weir. Executive Producers sind Patricia Whitcher\, Drew Goddard\
 , Lucy Kitada\, Nikki Baida\, Sarah Esberg und Ken Kao. Amazon MGM Studios
  präsentieren eine Pascal Pictures\, General Admission/Waypoint\, Lord Mi
 ller Produktion im Verleih von Sony Pictures Entertainment Deutschland. Ei
 n Film von Phil Lord &amp\; Christopher Miller.\nDauer: 157 min\, Sprache:
  D\, Deutsch\, FSK: ab 12
ATTACH;FMTTYPE=image/jpeg:https://cottbus.de/wp-content/uploads/2026/04/20
 230404_072808-scaled.jpg
CATEGORIES:Cottbus,Film,Kino
LOCATION:Weltspiegel Cottbus\, Rudolf-Breitscheid-Straße 78\, Cottbus\, Br
 andenburg\,  03046 \, Lausitz\, Deutschland
X-APPLE-STRUCTURED-LOCATION;VALUE=URI;X-ADDRESS=Rudolf-Breitscheid-Straße 
 78\, Cottbus\, Brandenburg\,  03046 \, Lausitz\, Deutschland;X-APPLE-RADIU
 S=100;X-TITLE=Weltspiegel Cottbus:geo:0,0
END:VEVENT
BEGIN:VTIMEZONE
TZID:Europe/Berlin
X-LIC-LOCATION:Europe/Berlin
BEGIN:DAYLIGHT
DTSTART:20260329T030000
TZOFFSETFROM:+0100
TZOFFSETTO:+0200
TZNAME:CEST
END:DAYLIGHT
END:VTIMEZONE
END:VCALENDAR