BEGIN:VCALENDAR
VERSION:2.0
PRODID:-//wp-events-plugin.com//7.0.5//EN
TZID:Europe/Berlin
X-WR-TIMEZONE:Europe/Berlin
BEGIN:VEVENT
UID:30299@cottbus.de
DTSTART;TZID=Europe/Berlin:20260517T100000
DTEND;TZID=Europe/Berlin:20260517T120000
DTSTAMP:20260420T090937Z
URL:https://cottbus.de/veranstaltungen/das-veto-prinzip-ueben-special-fly-
 to-the-moon/
SUMMARY:Das VETO-Prinzip üben – SPECIAL „Fly to the Moon“
DESCRIPTION:In diesem Workshop lernst du das VETO-Prinzip ganz praktisch ke
 nnen: eine Methode\, die zeigt\, wie wir uns in einem zielgerichteten geme
 inschaftlichen\nProzess so einbringen können\, dass wir uns selbst treu b
 leiben können. Anhand einer kreativen Szenenentwicklung zum Thema Mondlan
 dung üben wir\,\nuns und unsere inneren Widerstände selbst ernst zu nehm
 en und gleichzeitig im Kontakt mit anderen zu bleiben. Dabei sind die VETO
 -Führungsjoker ein\nwichtiges Element: mit meinem VETO schütze ich meine
  Grenzen und gebe gleichzeitig der Person in Führung eine konkrete Rückm
 eldung. Das gemeinsame\nSpielen eröffnet neue Perspektiven auf Verantwort
 ung\, Selbstbestimmung und Kooperation. Alle sind willkommen\, die Lust ha
 ben\, sich selbst und\nandere auf neue Weise kennenzulernen.\nBitte um Anm
 eldung unter : Karo_Leder@yahoo.de oder Tel.: 0152 57117876
ATTACH;FMTTYPE=image/jpeg:https://cottbus.de/wp-content/uploads/2025/09/Bu
 ehne8.jpg
CATEGORIES:Cottbus,Einzelveranstaltung
LOCATION:BÜHNE acht\, Erich-Weinert-Straße 2\, 03046 Cottbus\, Cottbus\, 
 Brandenburg\, 03046\, Deutschland
X-APPLE-STRUCTURED-LOCATION;VALUE=URI;X-ADDRESS=Erich-Weinert-Straße 2\, 0
 3046 Cottbus\, Cottbus\, Brandenburg\, 03046\, Deutschland;X-APPLE-RADIUS=
 100;X-TITLE=BÜHNE acht:geo:0,0
END:VEVENT
BEGIN:VTIMEZONE
TZID:Europe/Berlin
X-LIC-LOCATION:Europe/Berlin
BEGIN:DAYLIGHT
DTSTART:20260329T030000
TZOFFSETFROM:+0100
TZOFFSETTO:+0200
TZNAME:CEST
END:DAYLIGHT
END:VTIMEZONE
END:VCALENDAR