BEGIN:VCALENDAR
VERSION:2.0
PRODID:-//wp-events-plugin.com//7.0.5//EN
TZID:Europe/Berlin
X-WR-TIMEZONE:Europe/Berlin
BEGIN:VEVENT
UID:30452@cottbus.de
DTSTART;TZID=Europe/Berlin:20260602T200000
DTEND;TZID=Europe/Berlin:20260602T220000
DTSTAMP:20260421T134931Z
URL:https://cottbus.de/veranstaltungen/das-gewicht-der-welt-obenkino-in-co
 ttbus-5/
SUMMARY:DAS GEWICHT DER WELT - Obenkino in Cottbus
DESCRIPTION:DE 2025 | 95 Min | FSK: 0 | Regie: Florian Heinzen-Ziob | Genre
 : Dokumentarfilm\n\nWissenschaft soll sachlich sein: Fakten statt Gefühle
 . Aber eine neue Generation Naturwissen-schaftler erlebt\, wie ihre Forsch
 ung durch den Klimawandel aus den Fugen gerät. Statt die Wunder der Natur
  zu entdecken\, sind Maria\, Doktorin der Glaziologie\, Sebastian\, Profes
 sor für Physikalische Chemie\, und Nana\, Molekularbiologin\, Chronisten 
 einer untergehenden Welt. Aber niemand hört auf sie. Was tun? Statt sich 
 frustriert in den Elfenbeinturm ihrer Forschung zurückzuziehen\, verlasse
 n Maria\, Sebastian und Nana das Labor und werden zu Aktivisten\, denn sie
  tragen auf ihren Schultern das Gewicht der Welt.\nDAS GEWICHT DER WELT is
 t mehr als ein Klimadokumentarfilm – es ist ein zutiefst menschliches Po
 rträt dreier Naturwissenschaftler\, die erkennen\, dass ihre Forschung al
 leine nicht mehr ausreicht. In Zeiten zunehmender Klimakatastrophen\, poli
 tischer Lähmung und gesellschaftlicher Spaltung bietet der Film einen emo
 tionalen Zugang zu einer der zentralen Fragen unserer Zeit: Was bedeutet e
 s Verantwortung zu übernehmen?\n"Mehr als eine hochaktuelle Dokumentation
 "\nLea Dohm\, Psychologists for Future
ATTACH;FMTTYPE=image/jpeg:https://cottbus.de/wp-content/uploads/2024/12/73
 5e642a7c2e51e222de2d5fb7957c24d6c6e6df50e08d58639ce3e8553d9f86-scaled.jpg
CATEGORIES:Cottbus,Einzelveranstaltung,Film,Kino
LOCATION:Obenkino\, Straße der Jugend 16\, Cottbus\, 03046\, Brandenburg\,
  Deutschland
GEO:51.754318;14.333652
X-APPLE-STRUCTURED-LOCATION;VALUE=URI;X-ADDRESS=Straße der Jugend 16\, Cot
 tbus\, 03046\, Brandenburg\, Deutschland;X-APPLE-RADIUS=100;X-TITLE=Obenki
 no:geo:51.754318,14.333652
END:VEVENT
BEGIN:VTIMEZONE
TZID:Europe/Berlin
X-LIC-LOCATION:Europe/Berlin
BEGIN:DAYLIGHT
DTSTART:20260329T030000
TZOFFSETFROM:+0100
TZOFFSETTO:+0200
TZNAME:CEST
END:DAYLIGHT
END:VTIMEZONE
END:VCALENDAR