BEGIN:VCALENDAR
VERSION:2.0
PRODID:-//wp-events-plugin.com//7.0.5//EN
TZID:Europe/Berlin
X-WR-TIMEZONE:Europe/Berlin
BEGIN:VEVENT
UID:30410@cottbus.de
DTSTART;TZID=Europe/Berlin:20260510T173000
DTEND;TZID=Europe/Berlin:20260510T193000
DTSTAMP:20260421T120456Z
URL:https://cottbus.de/veranstaltungen/cotton-queen-obenkino-in-cottbus-2/
SUMMARY:COTTON QUEEN - Obenkino in Cottbus
DESCRIPTION:DE\, FR\, PS\, SD 2025 | 93 Min | FSK: 12 | Buch &amp\; Regie: 
 Suzannah Mirghani | Genre: Drama\, Coming-of-Age | DarstellerInnen: Mihad 
 Murtada\, Rabha Mohamed Mahmoud\, Talaat Fareed\n\nNafisa (15) lebt in ein
 em traditionellen Baumwolldorf im Sudan. Sie hat Sommerferien und muss mit
  ihren Freundinnen bei der Baumwollernte ihrer Großmutter helfen. Außerd
 em ist sie zum ersten Mal verliebt – in einen Jungen aus dem Dorf.\nIhre
  Großmutter Al-Sit\, die geachtete Matriarchin\, hält die Fäden des Dor
 fs fest in ihren Händen und gibt ihr Wissen an Nafisa weiter.\nDie Ankunf
 t von Nadir\, einem jungen sudanstämmigen Geschäftsmann aus dem Ausland\
 , droht das Leben des Dorfs durch neue Technologien im Baumwollanbau zu er
 schüttern. Nafisas Eltern wittern die Chance\, ihre Tochter mit Nadir zu 
 verheiraten und so den Wohlstand der Familie zu vergrößern.\nHin- und he
 rgerissen zwischen den Forderungen ihrer Familie und ihrem Wunsch nach Una
 bhängigkeit muss Nafisa ihren eigenen Weg zwischen Tradition und Moderne 
 finden.\n\n„Ein Film voller Finesse\, Ambivalenz\, Zärtlichkeit und Hum
 or.“\nGrand Award Fiction / Jury FIFDH\, Genf\, Internationales Filmfest
 ival und Forum für Menschenrechte
ATTACH;FMTTYPE=image/jpeg:https://cottbus.de/wp-content/uploads/2024/12/73
 5e642a7c2e51e222de2d5fb7957c24d6c6e6df50e08d58639ce3e8553d9f86-scaled.jpg
CATEGORIES:Cottbus,Einzelveranstaltung,Film,Kino
LOCATION:Obenkino\, Straße der Jugend 16\, Cottbus\, 03046\, Brandenburg\,
  Deutschland
GEO:51.754318;14.333652
X-APPLE-STRUCTURED-LOCATION;VALUE=URI;X-ADDRESS=Straße der Jugend 16\, Cot
 tbus\, 03046\, Brandenburg\, Deutschland;X-APPLE-RADIUS=100;X-TITLE=Obenki
 no:geo:51.754318,14.333652
END:VEVENT
BEGIN:VTIMEZONE
TZID:Europe/Berlin
X-LIC-LOCATION:Europe/Berlin
BEGIN:DAYLIGHT
DTSTART:20260329T030000
TZOFFSETFROM:+0100
TZOFFSETTO:+0200
TZNAME:CEST
END:DAYLIGHT
END:VTIMEZONE
END:VCALENDAR