BEGIN:VCALENDAR
VERSION:2.0
PRODID:-//wp-events-plugin.com//7.0.5//EN
TZID:Europe/Berlin
X-WR-TIMEZONE:Europe/Berlin
BEGIN:VEVENT
UID:30307@cottbus.de
DTSTART;TZID=Europe/Berlin:20260520T183000
DTEND;TZID=Europe/Berlin:20260520T183000
DTSTAMP:20260420T100659Z
URL:https://cottbus.de/veranstaltungen/chrystal-floods-von-den-emotionen-d
 es-wassers-cottbus/
SUMMARY:Chrystal Floods – Von den Emotionen des Wassers - Cottbus
DESCRIPTION:Due sopra il Basso (Ensemble für Renaissance- und Barockmusik)
ATTACH;FMTTYPE=image/jpeg:https://cottbus.de/wp-content/uploads/2026/04/ma
 i.jpg
LOCATION:BTU Cottbus-Senftenberg\, Platz der Deutschen Einheit 1\, Cottbus\
 , Brandenburg\, 03046\, Lausitz\, Deutschland
X-APPLE-STRUCTURED-LOCATION;VALUE=URI;X-ADDRESS=Platz der Deutschen Einheit
  1\, Cottbus\, Brandenburg\, 03046\, Lausitz\, Deutschland;X-APPLE-RADIUS=
 100;X-TITLE=BTU Cottbus-Senftenberg:geo:0,0
END:VEVENT
BEGIN:VTIMEZONE
TZID:Europe/Berlin
X-LIC-LOCATION:Europe/Berlin
BEGIN:DAYLIGHT
DTSTART:20260329T030000
TZOFFSETFROM:+0100
TZOFFSETTO:+0200
TZNAME:CEST
END:DAYLIGHT
END:VTIMEZONE
END:VCALENDAR