BEGIN:VCALENDAR
VERSION:2.0
PRODID:-//wp-events-plugin.com//7.0.5//EN
TZID:Europe/Berlin
X-WR-TIMEZONE:Europe/Berlin
BEGIN:VEVENT
UID:30441@cottbus.de
DTSTART;TZID=Europe/Berlin:20260522T170000
DTEND;TZID=Europe/Berlin:20260522T190000
DTSTAMP:20260421T123924Z
URL:https://cottbus.de/veranstaltungen/blame-obenkino-in-cottbus/
SUMMARY:BLAME - Obenkino in Cottbus
DESCRIPTION:Ein bildstarkes Plädoyer für die Wissenschaft\nCH 2025 | 123 
 Min | FSK: 12 | Buch &amp\; Regie: Christian Frei | Genre: Dokumentarfilm\
 n\nAls sie vor Pandemien in der Zukunft warnten\, wurden sie nicht gehört
 . Als die Welt von der COVID-19-Pandemie heimgesucht wird\, müssen diesel
 ben Wissenschaftler nicht nur gegen das Virus kämpfen\, sondern auch gege
 n eine Welle von Fehlinformationen\, Verschwörungstheorien und politische
 r Schuldzuweisung\, die drohen\, die Wahrheit zu überlagern.\n\nDies ist
  ihre Geschichte. Nach Jahren des Eintauchens in entlegenen Fledermaushöh
 len geraten drei Forschende ins grelle Licht der Politik und schwerer Ansc
 huldigungen. Die überhörten Warner müssen sich rechtfertigen. BLAME ist
  eine bildgewaltige Filmreise über die Rolle der Wissenschaft in zunehmen
 d dunkleren Zeiten. Sachlich und unaufgeregt zeigt der Film\, wie die Welt
  durch das gezielte Schüren und Bewirtschaften von Ängsten und faktenfre
 ien Mythen aus den Fugen geriet.\n„Einer der wichtigsten Dokumentarfilme
  des Jahres.“\nFilmpluskritik\n„Selten hat ein Dokumentarfilm so den N
 erv der Zeit getroffen.“\nWOZ – Die Wochenzeitung\n&nbsp\;
ATTACH;FMTTYPE=image/jpeg:https://cottbus.de/wp-content/uploads/2024/12/73
 5e642a7c2e51e222de2d5fb7957c24d6c6e6df50e08d58639ce3e8553d9f86-scaled.jpg
CATEGORIES:Cottbus,Einzelveranstaltung,Film,Kino
LOCATION:Obenkino\, Straße der Jugend 16\, Cottbus\, 03046\, Brandenburg\,
  Deutschland
GEO:51.754318;14.333652
X-APPLE-STRUCTURED-LOCATION;VALUE=URI;X-ADDRESS=Straße der Jugend 16\, Cot
 tbus\, 03046\, Brandenburg\, Deutschland;X-APPLE-RADIUS=100;X-TITLE=Obenki
 no:geo:51.754318,14.333652
END:VEVENT
BEGIN:VTIMEZONE
TZID:Europe/Berlin
X-LIC-LOCATION:Europe/Berlin
BEGIN:DAYLIGHT
DTSTART:20260329T030000
TZOFFSETFROM:+0100
TZOFFSETTO:+0200
TZNAME:CEST
END:DAYLIGHT
END:VTIMEZONE
END:VCALENDAR