BEGIN:VCALENDAR
VERSION:2.0
PRODID:-//wp-events-plugin.com//7.0.5//EN
TZID:Europe/Berlin
X-WR-TIMEZONE:Europe/Berlin
BEGIN:VEVENT
UID:30391@cottbus.de
DTSTART;TZID=Europe/Berlin:20260530T080000
DTEND;TZID=Europe/Berlin:20260530T180000
DTSTAMP:20260421T081600Z
URL:https://cottbus.de/veranstaltungen/ausstellung-peitzer-land-maler-ikmz
 -cottbus-2026-05-02-2026-05-03-2026-05-09-2026-05-10-2026-05-16-2026-05-17
 -2026-05-23-2026-05-24-2026-05-30/
SUMMARY:Ausstellung - Peitzer-Land-Maler - IKMZ Cottbus
DESCRIPTION:Die Ausstellung „Peitzer-Land-Maler zeigen sich„ von den Pe
 itzer Land-Malern in der Zeit vom 27.4.-30.5.2026 im 2. OG des IKMZ der BT
 U am Zentralcampus in Cottbus zu sehen.
ATTACH;FMTTYPE=image/jpeg:https://cottbus.de/wp-content/uploads/2026/04/Au
 sstellung-Peitzer-Land-Maler-IKMZ.png
CATEGORIES:Ausstellung,Cottbus
END:VEVENT
BEGIN:VTIMEZONE
TZID:Europe/Berlin
X-LIC-LOCATION:Europe/Berlin
BEGIN:DAYLIGHT
DTSTART:20260329T030000
TZOFFSETFROM:+0100
TZOFFSETTO:+0200
TZNAME:CEST
END:DAYLIGHT
END:VTIMEZONE
END:VCALENDAR