BEGIN:VCALENDAR
VERSION:2.0
PRODID:-//wp-events-plugin.com//7.0.5//EN
TZID:Europe/Berlin
X-WR-TIMEZONE:Europe/Berlin
BEGIN:VEVENT
UID:30435@cottbus.de
DTSTART;TZID=Europe/Berlin:20260527T170000
DTEND;TZID=Europe/Berlin:20260527T190000
DTSTAMP:20260421T122550Z
URL:https://cottbus.de/veranstaltungen/als-waere-es-leicht-obenkino-in-cot
 tbus-3/
SUMMARY:ALS WÄRE ES LEICHT - Obenkino in Cottbus
DESCRIPTION:DE 2025 | 90 Min | FSK: 12 | Regie: Milan Skrobanek | Genre: Dr
 ama. Liebesfilm | DarstellerInnen: David Knors\, Cindy Klink\, Athena Lang
 e\, Wolf Danny Homann\, Joachim Raaf\, Marion Kracht u.v.m.\n\nKati ist ge
 hörlos\, Florian ist blind. Er ist Stadionkommentator beim FC St. Pauli\,
  sie entdeckt die Welt durch ihre Kamera. Als sie sich im Dialoghaus Hambu
 rg begegnen\, entsteht eine eigene Sprache – jenseits von Worten und Ges
 ten\, getragen von Nähe und Mut. Doch ihre unterschiedlichen Lebenswelten
  und die Erwartungen von Familie und Umfeld stellen die Beziehung immer wi
 eder auf die Probe. Ihre Liebe wirkt für Außenstehende kaum möglich un
 d entfaltet gerade deshalb eine besondere Kraft.\n\nDer Film ist die erste
  deutsche Spielfilmproduktion\, die in den Hauptrollen Menschen zeigt\, di
 e im wirklichen Leben gehörlos bzw. blind sind. Er zeigt\, wie Nähe dort
  entstehen kann\, wo andere nur Grenzen sehen. Und er macht spürbar\, da
 ss Liebe nicht in Worten oder Blicken wohnt\, sondern in dem Versuch\, sic
 h dem anderen immer wieder neu zuzuwenden.\nALS WÄRE ES LEICHT wurde 2023
  für den Deutschen Drehbuchpreis nominiert.\n\nDer Debüt-Spielfilm des
  Hamburger Regisseurs Milan Skrobanek erzählt einfühlsam von der Schön
 heit und Verletzlichkeit einer Beziehung\, die größer ist als die Umstä
 nde. Am Set unterstützten Deaf-Supervisor und Gebärdensprachdolmetscher
 Innen die Kommunikation.\n\n„Eine berührende Liebesgeschichte\, ganz oh
 ne Sentimentalitäten und Kitsch…“\nRADIO Eins / Knut Elstermann\n\nHi
 nweis: Der Film wird mit Untertiteln für gehörlose und schwerhörige Men
 schen gezeigt. Blinde Menschen können den Film per Audiodeskription über
  die GRETA App erleben.
ATTACH;FMTTYPE=image/jpeg:https://cottbus.de/wp-content/uploads/2024/12/73
 5e642a7c2e51e222de2d5fb7957c24d6c6e6df50e08d58639ce3e8553d9f86-scaled.jpg
CATEGORIES:Cottbus,Einzelveranstaltung,Film,Kino
LOCATION:Obenkino\, Straße der Jugend 16\, Cottbus\, 03046\, Brandenburg\,
  Deutschland
GEO:51.754318;14.333652
X-APPLE-STRUCTURED-LOCATION;VALUE=URI;X-ADDRESS=Straße der Jugend 16\, Cot
 tbus\, 03046\, Brandenburg\, Deutschland;X-APPLE-RADIUS=100;X-TITLE=Obenki
 no:geo:51.754318,14.333652
END:VEVENT
BEGIN:VTIMEZONE
TZID:Europe/Berlin
X-LIC-LOCATION:Europe/Berlin
BEGIN:DAYLIGHT
DTSTART:20260329T030000
TZOFFSETFROM:+0100
TZOFFSETTO:+0200
TZNAME:CEST
END:DAYLIGHT
END:VTIMEZONE
END:VCALENDAR