BEGIN:VCALENDAR
VERSION:2.0
PRODID:-//wp-events-plugin.com//7.0.5//EN
TZID:Europe/Berlin
X-WR-TIMEZONE:Europe/Berlin
BEGIN:VEVENT
UID:19771@cottbus.de
DTSTART;TZID=Europe/Berlin:20250908T160000
DTEND;TZID=Europe/Berlin:20250908T173000
DTSTAMP:20250826T100413Z
URL:https://cottbus.de/veranstaltungen/abwehrkraefte-und-immunsystem-staer
 ken-mit-qigong/
SUMMARY:Abwehrkräfte und Immunsystem stärken mit Qigong
DESCRIPTION:
CATEGORIES:Cottbus,Sonstiges,Workshop / Seminar
LOCATION:URANIA Cottbus\, Friedrich-Ludwig-Jahn-Straße 13\, Cottbus\, Bran
 denburg\, Deutschland
GEO:49.71431;11.0662408
X-APPLE-STRUCTURED-LOCATION;VALUE=URI;X-ADDRESS=Friedrich-Ludwig-Jahn-Stra
 ße 13\, Cottbus\, Brandenburg\, Deutschland;X-APPLE-RADIUS=100;X-TITLE=UR
 ANIA Cottbus:geo:49.71431,11.0662408
END:VEVENT
BEGIN:VTIMEZONE
TZID:Europe/Berlin
X-LIC-LOCATION:Europe/Berlin
BEGIN:DAYLIGHT
DTSTART:20250330T030000
TZOFFSETFROM:+0100
TZOFFSETTO:+0200
TZNAME:CEST
END:DAYLIGHT
END:VTIMEZONE
END:VCALENDAR