BEGIN:VCALENDAR
VERSION:2.0
PRODID:-//wp-events-plugin.com//7.0.5//EN
TZID:Europe/Berlin
X-WR-TIMEZONE:Europe/Berlin
BEGIN:VEVENT
UID:30440@cottbus.de
DTSTART;TZID=Europe/Berlin:20260517T180000
DTEND;TZID=Europe/Berlin:20260517T200000
DTSTAMP:20260421T122746Z
URL:https://cottbus.de/veranstaltungen/80-jahre-defa-kurzfilmpogramm-die-l
 andschaft-der-lausitz-im-defa-film-film-und-gespraech-obenkino-in-cottbus/
SUMMARY:80 Jahre DEFA  KURZFILMPOGRAMM: DIE LANDSCHAFT DER LAUSITZ IM DEFA-
 FILM - Film und Gespräch - Obenkino in Cottbus
DESCRIPTION:KUMPEL UND GIGANTEN\nDDR 1957 | 17 Min | FSK: k.A. | Regie: Joo
 p Huisken | Genre: Dokumentarfilm\n\nBraunkohle ist als Rohstoff von enorm
 er Bedeutung\, kein anderes Land fördert davon so viel wie die DDR. Die K
 umpel in den Kohlegruben wissen von der Wichtigkeit ihrer Arbeit. Konzentr
 iert und voll Zuversicht gehen sie ans Werk.\n\n... UNTER ANDEREM SCHWARZE
  PUMPE\nDDR 1955 | 18 Min | FSK: k.A. | Regie: Jürgen Thierlein | Genre: 
 Dokumentarfilm\n\n70 Tage nach dem Regierungsbeschluss über den Bau des K
 ombinates Schwarze Pumpe wird der Grundstein dafür gelegt. Im Trick wird 
 das Projekt mit seinen einzelnen Bauetappen erläutert.\n\nLEBEN AM FLIESS
  - W BŁOTACH\nDDR 1989 | 28 Min | FSK: k.A. | Regie: Peter Rocha | Genre:
  Dokumentarfilm\n\nDie Landschaft der Niederlausitz ist geprägt reizvolle
 r Natur sowie von Tagebauen und Kraftwerken. Vorgestellt werden ein Spreew
 aldkahnfahrer und seine Familie. Beobachtungen des Alltags werden mit den 
 Gedanken des Mannes über die Verbundenheit des Menschen mit der Natur ver
 knüpft.\n\nHOCHWALDMÄRCHEN\nDDR 1987 | 9 Min | FSK: k.A. | Regie: Peter 
 Rocha | Genre: Dokumentarfilm\n\nDer Film erzählt über ein geschlossenes
  Waldgebiet im oberen Spreewald. Dieses einmalige Stück Natur ist unter b
 esonderen Schutz gestellt. Mitten im Energiebezirk Cottbus gelegen\, wird 
 neben der Energieproduktion in Kraftwerken und Gruben für den Menschen ei
 n Kleinod bewahrt.\n\nEinführung &amp\; Gespräch:\nGrit Lemke | Autorin 
 &amp\; Regisseurin\n\nEine Veranstaltung im Rahmen des DEFA-Jubiläumswoch
 enendes anlässlich des 80. Gründungstages. Die gezeigten DEFA-Produktion
 en wurden im Rahmen des Förderprogramms Filmerbe (FFE) digitalisiert.
ATTACH;FMTTYPE=image/jpeg:https://cottbus.de/wp-content/uploads/2024/12/73
 5e642a7c2e51e222de2d5fb7957c24d6c6e6df50e08d58639ce3e8553d9f86-scaled.jpg
CATEGORIES:Cottbus,Einzelveranstaltung,Film,Kino
LOCATION:Obenkino\, Straße der Jugend 16\, Cottbus\, 03046\, Brandenburg\,
  Deutschland
GEO:51.754318;14.333652
X-APPLE-STRUCTURED-LOCATION;VALUE=URI;X-ADDRESS=Straße der Jugend 16\, Cot
 tbus\, 03046\, Brandenburg\, Deutschland;X-APPLE-RADIUS=100;X-TITLE=Obenki
 no:geo:51.754318,14.333652
END:VEVENT
BEGIN:VTIMEZONE
TZID:Europe/Berlin
X-LIC-LOCATION:Europe/Berlin
BEGIN:DAYLIGHT
DTSTART:20260329T030000
TZOFFSETFROM:+0100
TZOFFSETTO:+0200
TZNAME:CEST
END:DAYLIGHT
END:VTIMEZONE
END:VCALENDAR