BEGIN:VCALENDAR
VERSION:2.0
PRODID:-//wp-events-plugin.com//7.0.5//EN
TZID:Europe/Berlin
X-WR-TIMEZONE:Europe/Berlin
BEGIN:VEVENT
UID:27653@cottbus.de
DTSTART;TZID=Europe/Berlin:20260515T120000
DTEND;TZID=Europe/Berlin:20260515T180000
DTSTAMP:20260422T131223Z
URL:https://cottbus.de/veranstaltungen/16-gartenfestival-park-schloss-bran
 itz-in-der-historischen-schlossgaertnerei/
SUMMARY:16. Gartenfestival Park &amp\; Schloss Branitz in der Historischen 
 Schlossgärtnerei
DESCRIPTION:Das Gartenfestival lockt mit einer bunten Vielfalt an Pflanzens
 chätzen\, besonderen Gartenaccessoires und regionalen Köstlichkeiten\, i
 nspiriert von Fürst Pücklers Sinn für\nÄsthetik und Genuss. Tauchen Si
 e ein in die Welt des Gartenkünstlers und Feinschmeckers und erleben Sie\
 , wie Gartenkunst und Gaumenfreuden harmonisch miteinander verschmelzen. L
 assen Sie sich von blühenden Rosensträuchern\, duftenden Kräutergärten
  und kreativen Gourmet-Angeboten verzaubern. Regionale Gärtnereien und Pr
 oduzenten präsentieren seltene Stauden\, Knollen und Gehölze\, märkisch
 e Originale und botanische Raritäten\, aber auch exotische Pflanzen\, Pfl
 anzkeramik sowie stillvolle Gartenmöbel und Accessoires – eine Einladun
 g zum Entdecken und Erwerben.\nWer etwas Besonderes für seinen Garten suc
 ht\, wird fündig. Wer einen entspannten Tag mit Kultur und Fachwissen anr
 eichern möchte\, wird glücklich. Wer Gaumenfreuden erleben möchte\, wir
 d begeistert sein.
CATEGORIES:Einzelveranstaltung,Fest / Brauchtum
LOCATION:Fürst-Pückler-Museum Park und Schloss Branitz\, Robinienweg 5\, 
 Cottbus\, 03042\, Brandenburg\, Deutschland
GEO:51.742249;14.373036
X-APPLE-STRUCTURED-LOCATION;VALUE=URI;X-ADDRESS=Robinienweg 5\, Cottbus\, 0
 3042\, Brandenburg\, Deutschland;X-APPLE-RADIUS=100;X-TITLE=Fürst-Pückle
 r-Museum Park und Schloss Branitz:geo:51.742249,14.373036
END:VEVENT
BEGIN:VTIMEZONE
TZID:Europe/Berlin
X-LIC-LOCATION:Europe/Berlin
BEGIN:DAYLIGHT
DTSTART:20260329T030000
TZOFFSETFROM:+0100
TZOFFSETTO:+0200
TZNAME:CEST
END:DAYLIGHT
END:VTIMEZONE
END:VCALENDAR