BEGIN:VCALENDAR
VERSION:2.0
PRODID:-//wp-events-plugin.com//7.0.5//EN
TZID:Europe/Berlin
X-WR-TIMEZONE:Europe/Berlin
BEGIN:VEVENT
UID:30300@cottbus.de
DTSTART;TZID=Europe/Berlin:20260422T170000
DTEND;TZID=Europe/Berlin:20260422T190000
DTSTAMP:20260420T090733Z
URL:https://cottbus.de/veranstaltungen/101-jahre-abraumfoerderbruecken-sta
 dtmuseum-cottbus/
SUMMARY:101 Jahre Abraumförderbrücken - Stadtmuseum Cottbus
DESCRIPTION:ein Veranstaltungsabend unter dem Titel „101 Jahre Abraumför
 derbrücken“\n\nMit diesem ganz besonderen Thema widmet sich Siegfried L
 aumen (LEAG) im Stadtmuseum Cottbus (Bahnhofstraße 22).\nAls vor über 20
 0 Jahren bei Bockwitz (heute: Lauchhammer-Mitte) das erste Kohleflöz der 
 Niederlausitz angebohrt wurde\, da ahnte wohl noch niemand\, welche Auswir
 kungen dies auf die gesamte Region haben würde. Der Abbau der Braunkohle 
 sorgte für gesellschaftliche und naturräumliche Veränderungen. Bis heut
 e ist er wesentlicher Teil der gesamten Lausitz und der Kulturgeschichte u
 nseres Landes.\nMit dem Abbau der Braunkohle sind auch die riesigen Abraum
 förderbrücken\, wie die F60\, verbunden. Mit 502 Metern Länge\, 204 Met
 ern Breite und 80 Metern Höhe sind diese Abraumförderbrücken die größ
 ten beweglichen Arbeitsmaschinen der Welt. Als „liegende Eiffeltürme“
  prägten und prägen sie noch heute unsere Landschaft und sorgen stets f
 ür\nNeugier und Erstaunen. Die Sprengung der F60 im Tagebau Jänschwalde 
 gibt uns Anlass\, die Geschichte der Abraumförderbrücken mit allen Inter
 essierten gemeinsam zu beleuchten.
ATTACH;FMTTYPE=image/jpeg:https://cottbus.de/wp-content/uploads/2024/12/6b
 42df288c6445b682fcbbbc57ab78643076cc406b811f842fcd1cdd366ccea3-scaled.jpg
CATEGORIES:Cottbus,Einzelveranstaltung,Gespräch
LOCATION:Stadtmuseum Cottbus\, Bahnhofstraße 22\, Cottbus\, Brandenburg\, 
 03046\, Lausitz\, Deutschland
X-APPLE-STRUCTURED-LOCATION;VALUE=URI;X-ADDRESS=Bahnhofstraße 22\, Cottbus
 \, Brandenburg\, 03046\, Lausitz\, Deutschland;X-APPLE-RADIUS=100;X-TITLE=
 Stadtmuseum Cottbus:geo:0,0
END:VEVENT
BEGIN:VTIMEZONE
TZID:Europe/Berlin
X-LIC-LOCATION:Europe/Berlin
BEGIN:DAYLIGHT
DTSTART:20260329T030000
TZOFFSETFROM:+0100
TZOFFSETTO:+0200
TZNAME:CEST
END:DAYLIGHT
END:VTIMEZONE
END:VCALENDAR